BEGIN:VCALENDAR
VERSION:2.0
PRODID:-//Cleebi Online - ECPv6.11.2.1//NONSGML v1.0//EN
CALSCALE:GREGORIAN
METHOD:PUBLISH
X-ORIGINAL-URL:https://www.cleebi.online
X-WR-CALDESC:Évènements pour Cleebi Online
REFRESH-INTERVAL;VALUE=DURATION:PT1H
X-Robots-Tag:noindex
X-PUBLISHED-TTL:PT1H
BEGIN:VTIMEZONE
TZID:Europe/Paris
BEGIN:DAYLIGHT
TZOFFSETFROM:+0100
TZOFFSETTO:+0200
TZNAME:CEST
DTSTART:20260329T010000
END:DAYLIGHT
BEGIN:STANDARD
TZOFFSETFROM:+0200
TZOFFSETTO:+0100
TZNAME:CET
DTSTART:20261025T010000
END:STANDARD
END:VTIMEZONE
BEGIN:VEVENT
DTSTART;VALUE=DATE:20260313
DTEND;VALUE=DATE:20260314
DTSTAMP:20260422T120400
CREATED:20260225T082006Z
LAST-MODIFIED:20260225T082006Z
UID:37797-1773360000-1773446399@www.cleebi.online
SUMMARY:TPS/PS\, MS\, GS
DESCRIPTION:Danses et musiques d’Afrique à l’EPBI\nClasses de MATERNELLE\n \nChers parents\, \nDans le cadre de notre projet de découverte de l’Afrique\, nos petits élèves de Maternelle vont participer\, au cours des mois de mars et d’avril \, à plusieurs séances d’inititation aux danses et musiques africaines. \nNous accueillerons l’association Pirouette le vendredi 13 mars et le jeudi 2 avril prochains. \nChaque classe profitera de 4 séances permettant de découvrir les percussions\, de chanter et bouger au son de rythmes traditionnels d’Afrique. \nLet’s dance ! \nMerci de procéder au règlement en ligne de la somme de 15 euros\navant le vendredi 13 mars prochain. \n–> INSCRIPTION <–– \n\nAfrican Music and Dance at EPBI\nKINDERGARTEN classes\n \nDear Parents\, \nAs part of our Discovery of Africa theme this year\, the children in Kindergarten will participate in several African music and dance workshops in March and April. \nWe will welcome the Pirouette association on Friday 13th March and Thursday 2nd April 2026.   \nEach class will participate in 4 workshops allowing the children to discover African instruments\, percussion\, traditional songs and dances. \nLet’s dance ! \nPlease proceed to the 15 € payment online\nbefore Friday 13th March. \n–> ENROLLMENT <—
URL:https://www.cleebi.online/event/tps-ps-ms-gs-21/
LOCATION:EPBI 1
CATEGORIES:Atelier pédagogique
END:VEVENT
END:VCALENDAR